Package: RedisParam Version: 1.13.0 Command: /Library/Frameworks/R.framework/Resources/bin/R CMD INSTALL RedisParam StartedAt: 2025-11-12 15:20:45 -0500 (Wed, 12 Nov 2025) EndedAt: 2025-11-12 15:20:52 -0500 (Wed, 12 Nov 2025) EllapsedTime: 7.1 seconds RetCode: 0 Status: OK