Package: RedisParam Version: 1.13.0 Command: /Library/Frameworks/R.framework/Resources/bin/R CMD build --keep-empty-dirs --no-resave-data RedisParam StartedAt: 2025-11-12 17:03:09 -0500 (Wed, 12 Nov 2025) EndedAt: 2025-11-12 17:03:13 -0500 (Wed, 12 Nov 2025) EllapsedTime: 4.1 seconds RetCode: 0 Status: OK PackageFile: RedisParam_1.13.0.tar.gz PackageFileSize: 950.5 KiB