Package: RedeR Version: 3.7.0 Command: /home/biocbuild/bbs-3.23-bioc/R/bin/R CMD INSTALL RedeR StartedAt: 2025-11-14 15:06:24 -0500 (Fri, 14 Nov 2025) EndedAt: 2025-11-14 15:06:41 -0500 (Fri, 14 Nov 2025) EllapsedTime: 16.9 seconds RetCode: 0 Status: OK