Package: RedeR Version: 3.7.0 Command: /home/biocbuild/bbs-3.23-bioc/R/bin/R CMD build --keep-empty-dirs --no-resave-data RedeR StartedAt: 2025-11-13 19:32:58 -0500 (Thu, 13 Nov 2025) EndedAt: 2025-11-13 19:33:10 -0500 (Thu, 13 Nov 2025) EllapsedTime: 12.0 seconds RetCode: 0 Status: OK PackageFile: RedeR_3.7.0.tar.gz PackageFileSize: 4.347 MiB