Package: RedeR Version: 3.7.0 Command: /Library/Frameworks/R.framework/Resources/bin/R CMD INSTALL RedeR StartedAt: 2025-11-13 15:03:17 -0500 (Thu, 13 Nov 2025) EndedAt: 2025-11-13 15:03:26 -0500 (Thu, 13 Nov 2025) EllapsedTime: 9.3 seconds RetCode: 0 Status: OK