Package: RedeR Version: 3.7.0 Command: /Library/Frameworks/R.framework/Resources/bin/R CMD build --keep-empty-dirs --no-resave-data RedeR StartedAt: 2025-11-13 17:27:42 -0500 (Thu, 13 Nov 2025) EndedAt: 2025-11-13 17:27:48 -0500 (Thu, 13 Nov 2025) EllapsedTime: 6.1 seconds RetCode: 0 Status: OK PackageFile: RedeR_3.7.0.tar.gz PackageFileSize: 4.347 MiB