Package: RedeR Version: 3.7.0 Command: rm -rf RedeR.buildbin-libdir && mkdir RedeR.buildbin-libdir && /Users/biocbuild/BBS/utils/build-universal.sh RedeR_3.7.0.tar.gz /Library/Frameworks/R.framework/Resources/bin/R RedeR.buildbin-libdir StartedAt: 2025-11-13 23:52:26 -0500 (Thu, 13 Nov 2025) EndedAt: 2025-11-13 23:52:30 -0500 (Thu, 13 Nov 2025) EllapsedTime: 4.1 seconds RetCode: 0 Status: OK PackageFile: RedeR_3.7.0.tgz PackageFileSize: 3.63 MiB