Package: RedeR Version: 3.7.0 Maintainer: Mauro Castro MaintainerEmail: mauro.a.castro at gmail.com git_url: https://git.bioconductor.org/packages/RedeR git_branch: devel git_last_commit: 2792dd8 git_last_commit_date: 2025-10-29 10:08:13 -0500 (Wed, 29 Oct 2025)