Package: ReadqPCR Version: 1.57.0 Command: /Library/Frameworks/R.framework/Resources/bin/R CMD INSTALL ReadqPCR StartedAt: 2025-11-13 15:07:07 -0500 (Thu, 13 Nov 2025) EndedAt: 2025-11-13 15:07:10 -0500 (Thu, 13 Nov 2025) EllapsedTime: 2.3 seconds RetCode: 0 Status: OK