Package: ReadqPCR Version: 1.57.0 Command: /Library/Frameworks/R.framework/Resources/bin/R CMD build --keep-empty-dirs --no-resave-data ReadqPCR StartedAt: 2025-11-13 17:27:27 -0500 (Thu, 13 Nov 2025) EndedAt: 2025-11-13 17:27:32 -0500 (Thu, 13 Nov 2025) EllapsedTime: 5.1 seconds RetCode: 0 Status: OK PackageFile: ReadqPCR_1.57.0.tar.gz PackageFileSize: 491.1 KiB