Package: ReadqPCR Version: 1.57.0 Command: rm -rf ReadqPCR.buildbin-libdir && mkdir ReadqPCR.buildbin-libdir && /Users/biocbuild/BBS/utils/build-universal.sh ReadqPCR_1.57.0.tar.gz /Library/Frameworks/R.framework/Resources/bin/R ReadqPCR.buildbin-libdir StartedAt: 2025-11-12 21:07:43 -0500 (Wed, 12 Nov 2025) EndedAt: 2025-11-12 21:07:46 -0500 (Wed, 12 Nov 2025) EllapsedTime: 3.1 seconds RetCode: 0 Status: OK PackageFile: ReadqPCR_1.57.0.tgz PackageFileSize: 569 KiB