Package: ReadqPCR Version: 1.57.0 Maintainer: James Perkins MaintainerEmail: jimrperkins at gmail.com git_url: https://git.bioconductor.org/packages/ReadqPCR git_branch: devel git_last_commit: 8f4627c git_last_commit_date: 2025-10-29 10:08:05 -0500 (Wed, 29 Oct 2025)