Package: ReactomePA Version: 1.55.0 Command: /home/biocbuild/bbs-3.23-bioc/R/bin/R CMD INSTALL ReactomePA StartedAt: 2025-11-11 15:50:48 -0500 (Tue, 11 Nov 2025) EndedAt: 2025-11-11 15:51:12 -0500 (Tue, 11 Nov 2025) EllapsedTime: 24.1 seconds RetCode: 0 Status: OK