Package: ReactomePA Version: 1.55.0 Command: /home/biocbuild/bbs-3.23-bioc/R/bin/R CMD check --install=check:ReactomePA.install-out.txt --library=/home/biocbuild/bbs-3.23-bioc/R/site-library --timings ReactomePA_1.55.0.tar.gz StartedAt: 2025-11-14 03:05:20 -0500 (Fri, 14 Nov 2025) EndedAt: 2025-11-14 03:09:36 -0500 (Fri, 14 Nov 2025) EllapsedTime: 256.4 seconds RetCode: 0 Status: OK CheckDir: ReactomePA.Rcheck Warnings: 0