Package: ReactomePA Version: 1.55.0 Command: /Library/Frameworks/R.framework/Resources/bin/R CMD check --install=check:ReactomePA.install-out.txt --library=/Library/Frameworks/R.framework/Resources/library --no-vignettes --timings ReactomePA_1.55.0.tar.gz StartedAt: 2025-11-14 21:57:34 -0500 (Fri, 14 Nov 2025) EndedAt: 2025-11-14 21:59:21 -0500 (Fri, 14 Nov 2025) EllapsedTime: 106.5 seconds RetCode: 0 Status: OK CheckDir: ReactomePA.Rcheck Warnings: 0