Package: ReactomePA Version: 1.55.0 Command: /Library/Frameworks/R.framework/Resources/bin/R CMD build --keep-empty-dirs --no-resave-data ReactomePA StartedAt: 2025-11-12 17:02:56 -0500 (Wed, 12 Nov 2025) EndedAt: 2025-11-12 17:03:10 -0500 (Wed, 12 Nov 2025) EllapsedTime: 14.2 seconds RetCode: 0 Status: OK PackageFile: ReactomePA_1.55.0.tar.gz PackageFileSize: 57.19 KiB