Package: ReactomeGSA Version: 1.25.0 Command: /home/biocbuild/bbs-3.23-bioc/R/bin/R CMD INSTALL ReactomeGSA StartedAt: 2025-11-13 15:53:18 -0500 (Thu, 13 Nov 2025) EndedAt: 2025-11-13 15:53:27 -0500 (Thu, 13 Nov 2025) EllapsedTime: 9.1 seconds RetCode: 0 Status: OK