Package: ReactomeGSA Version: 1.25.0 Command: /home/biocbuild/bbs-3.23-bioc/R/bin/R CMD check --install=check:ReactomeGSA.install-out.txt --library=/home/biocbuild/bbs-3.23-bioc/R/site-library --timings ReactomeGSA_1.25.0.tar.gz StartedAt: 2025-11-10 02:56:23 -0500 (Mon, 10 Nov 2025) EndedAt: 2025-11-10 03:21:31 -0500 (Mon, 10 Nov 2025) EllapsedTime: 1508.6 seconds RetCode: 0 Status: OK CheckDir: ReactomeGSA.Rcheck Warnings: 0