Package: ReactomeGSA Version: 1.25.0 Command: /home/biocbuild/bbs-3.23-bioc/R/bin/R CMD build --keep-empty-dirs --no-resave-data ReactomeGSA StartedAt: 2025-11-13 19:32:31 -0500 (Thu, 13 Nov 2025) EndedAt: 2025-11-13 19:36:52 -0500 (Thu, 13 Nov 2025) EllapsedTime: 261.3 seconds RetCode: 1 Status: ERROR PackageFile: None PackageFileSize: NA