Package: ReactomeGSA Version: 1.25.0 Command: /Library/Frameworks/R.framework/Resources/bin/R CMD INSTALL ReactomeGSA StartedAt: 2025-11-13 15:31:03 -0500 (Thu, 13 Nov 2025) EndedAt: 2025-11-13 15:31:07 -0500 (Thu, 13 Nov 2025) EllapsedTime: 4.1 seconds RetCode: 0 Status: OK