Package: ReactomeGSA Version: 1.25.0 Command: /Library/Frameworks/R.framework/Resources/bin/R CMD check --install=check:ReactomeGSA.install-out.txt --library=/Library/Frameworks/R.framework/Resources/library --no-vignettes --timings ReactomeGSA_1.25.0.tar.gz StartedAt: 2025-11-13 22:02:06 -0500 (Thu, 13 Nov 2025) EndedAt: 2025-11-13 22:11:29 -0500 (Thu, 13 Nov 2025) EllapsedTime: 563.7 seconds RetCode: 0 Status: OK CheckDir: ReactomeGSA.Rcheck Warnings: 0