Package: ReactomeGSA Version: 1.25.0 Command: /Library/Frameworks/R.framework/Resources/bin/R CMD build --keep-empty-dirs --no-resave-data ReactomeGSA StartedAt: 2025-11-13 17:27:24 -0500 (Thu, 13 Nov 2025) EndedAt: 2025-11-13 17:30:41 -0500 (Thu, 13 Nov 2025) EllapsedTime: 197.2 seconds RetCode: 0 Status: OK PackageFile: ReactomeGSA_1.25.0.tar.gz PackageFileSize: 400.1 KiB