Package: ReactomeGSA Version: 1.25.0 Command: rm -rf ReactomeGSA.buildbin-libdir && mkdir ReactomeGSA.buildbin-libdir && /Users/biocbuild/BBS/utils/build-universal.sh ReactomeGSA_1.25.0.tar.gz /Library/Frameworks/R.framework/Resources/bin/R ReactomeGSA.buildbin-libdir StartedAt: 2025-11-13 23:52:18 -0500 (Thu, 13 Nov 2025) EndedAt: 2025-11-13 23:52:23 -0500 (Thu, 13 Nov 2025) EllapsedTime: 5.1 seconds RetCode: 0 Status: OK PackageFile: ReactomeGSA_1.25.0.tgz PackageFileSize: 763.4 KiB