Package: ReUseData Version: 1.11.0 Command: /home/biocbuild/bbs-3.23-bioc/R/bin/R CMD INSTALL ReUseData StartedAt: 2025-11-13 15:13:01 -0500 (Thu, 13 Nov 2025) EndedAt: 2025-11-13 15:13:16 -0500 (Thu, 13 Nov 2025) EllapsedTime: 14.8 seconds RetCode: 0 Status: OK