Package: ReUseData Version: 1.11.0 Command: /home/biocbuild/bbs-3.23-bioc/R/bin/R CMD check --install=check:ReUseData.install-out.txt --library=/home/biocbuild/bbs-3.23-bioc/R/site-library --timings ReUseData_1.11.0.tar.gz StartedAt: 2025-11-26 03:15:47 -0500 (Wed, 26 Nov 2025) EndedAt: 2025-11-26 03:18:32 -0500 (Wed, 26 Nov 2025) EllapsedTime: 164.2 seconds RetCode: 0 Status: OK CheckDir: ReUseData.Rcheck Warnings: 0