Package: ReUseData Version: 1.11.0 Command: /Library/Frameworks/R.framework/Resources/bin/R CMD INSTALL ReUseData StartedAt: 2025-11-12 15:22:15 -0500 (Wed, 12 Nov 2025) EndedAt: 2025-11-12 15:22:20 -0500 (Wed, 12 Nov 2025) EllapsedTime: 5.2 seconds RetCode: 0 Status: OK