Package: ReUseData Version: 1.11.0 Command: /Library/Frameworks/R.framework/Resources/bin/R CMD build --keep-empty-dirs --no-resave-data ReUseData StartedAt: 2025-11-12 17:03:42 -0500 (Wed, 12 Nov 2025) EndedAt: 2025-11-12 17:08:30 -0500 (Wed, 12 Nov 2025) EllapsedTime: 288.6 seconds RetCode: 1 Status: ERROR PackageFile: None PackageFileSize: NA