Package: Rdisop Version: 1.71.0 Command: rm -rf Rdisop.buildbin-libdir && mkdir Rdisop.buildbin-libdir && /Users/biocbuild/BBS/utils/build-universal.sh Rdisop_1.71.0.tar.gz /Library/Frameworks/R.framework/Resources/bin/R Rdisop.buildbin-libdir StartedAt: 2025-11-19 23:48:35 -0500 (Wed, 19 Nov 2025) EndedAt: 2025-11-19 23:48:50 -0500 (Wed, 19 Nov 2025) EllapsedTime: 15.4 seconds RetCode: 0 Status: OK PackageFile: Rdisop_1.71.0.tgz PackageFileSize: 234.6 KiB