Package: RcwlPipelines Version: 1.27.0 Command: /home/biocbuild/bbs-3.23-bioc/R/bin/R CMD INSTALL RcwlPipelines StartedAt: 2025-11-11 15:16:46 -0500 (Tue, 11 Nov 2025) EndedAt: 2025-11-11 15:17:00 -0500 (Tue, 11 Nov 2025) EllapsedTime: 13.9 seconds RetCode: 0 Status: OK