Package: RcwlPipelines Version: 1.27.0 Command: /Library/Frameworks/R.framework/Resources/bin/R CMD INSTALL RcwlPipelines StartedAt: 2025-11-12 15:22:10 -0500 (Wed, 12 Nov 2025) EndedAt: 2025-11-12 15:22:15 -0500 (Wed, 12 Nov 2025) EllapsedTime: 4.9 seconds RetCode: 0 Status: OK