Package: RcwlPipelines Version: 1.27.0 Command: /Library/Frameworks/R.framework/Resources/bin/R CMD build --keep-empty-dirs --no-resave-data RcwlPipelines StartedAt: 2025-11-12 17:02:27 -0500 (Wed, 12 Nov 2025) EndedAt: 2025-11-12 17:02:42 -0500 (Wed, 12 Nov 2025) EllapsedTime: 15.2 seconds RetCode: 0 Status: OK PackageFile: RcwlPipelines_1.27.0.tar.gz PackageFileSize: 877.4 KiB