Package: RcwlPipelines Version: 1.27.0 Command: rm -rf RcwlPipelines.buildbin-libdir && mkdir RcwlPipelines.buildbin-libdir && /Users/biocbuild/BBS/utils/build-universal.sh RcwlPipelines_1.27.0.tar.gz /Library/Frameworks/R.framework/Resources/bin/R RcwlPipelines.buildbin-libdir StartedAt: 2025-11-13 23:52:14 -0500 (Thu, 13 Nov 2025) EndedAt: 2025-11-13 23:52:21 -0500 (Thu, 13 Nov 2025) EllapsedTime: 7.2 seconds RetCode: 0 Status: OK PackageFile: RcwlPipelines_1.27.0.tgz PackageFileSize: 1.038 MiB