Package: RcwlPipelines Version: 1.27.0 Maintainer: Qiang Hu MaintainerEmail: qiang.hu at roswellpark.org git_url: https://git.bioconductor.org/packages/RcwlPipelines git_branch: devel git_last_commit: d418067 git_last_commit_date: 2025-10-29 10:50:42 -0500 (Wed, 29 Oct 2025)