Package: Rcwl Version: 1.27.0 Command: /home/biocbuild/bbs-3.23-bioc/R/bin/R CMD INSTALL Rcwl StartedAt: 2025-11-13 15:12:12 -0500 (Thu, 13 Nov 2025) EndedAt: 2025-11-13 15:12:23 -0500 (Thu, 13 Nov 2025) EllapsedTime: 10.7 seconds RetCode: 0 Status: OK