Package: Rcwl Version: 1.27.0 Command: /home/biocbuild/bbs-3.23-bioc/R/bin/R CMD build --keep-empty-dirs --no-resave-data Rcwl StartedAt: 2025-11-14 19:32:09 -0500 (Fri, 14 Nov 2025) EndedAt: 2025-11-14 19:32:41 -0500 (Fri, 14 Nov 2025) EllapsedTime: 32.1 seconds RetCode: 0 Status: OK PackageFile: Rcwl_1.27.0.tar.gz PackageFileSize: 1.024 MiB