Package: Rcwl Version: 1.27.0 Command: /Library/Frameworks/R.framework/Resources/bin/R CMD INSTALL Rcwl StartedAt: 2025-11-13 15:06:46 -0500 (Thu, 13 Nov 2025) EndedAt: 2025-11-13 15:06:51 -0500 (Thu, 13 Nov 2025) EllapsedTime: 4.7 seconds RetCode: 0 Status: OK