Package: RcisTarget Version: 1.31.0 Command: /Library/Frameworks/R.framework/Resources/bin/R CMD build --keep-empty-dirs --no-resave-data RcisTarget StartedAt: 2025-11-12 17:02:12 -0500 (Wed, 12 Nov 2025) EndedAt: 2025-11-12 17:02:50 -0500 (Wed, 12 Nov 2025) EllapsedTime: 37.4 seconds RetCode: 0 Status: OK PackageFile: RcisTarget_1.31.0.tar.gz PackageFileSize: 12.84 MiB