Package: RcisTarget Version: 1.31.0 Command: rm -rf RcisTarget.buildbin-libdir && mkdir RcisTarget.buildbin-libdir && /Users/biocbuild/BBS/utils/build-universal.sh RcisTarget_1.31.0.tar.gz /Library/Frameworks/R.framework/Resources/bin/R RcisTarget.buildbin-libdir StartedAt: 2025-11-12 21:07:33 -0500 (Wed, 12 Nov 2025) EndedAt: 2025-11-12 21:07:50 -0500 (Wed, 12 Nov 2025) EllapsedTime: 16.3 seconds RetCode: 0 Status: OK PackageFile: RcisTarget_1.31.0.tgz PackageFileSize: 13.01 MiB