Package: RcisTarget Version: 1.31.0 Maintainer: Gert Hulselmans MaintainerEmail: Gert.Hulselmans at kuleuven.be git_url: https://git.bioconductor.org/packages/RcisTarget git_branch: devel git_last_commit: 06bec5f git_last_commit_date: 2025-10-29 10:42:56 -0500 (Wed, 29 Oct 2025)