Package: Rbowtie2 Version: 2.17.0 Command: /home/biocbuild/bbs-3.23-bioc/R/bin/R CMD INSTALL Rbowtie2 StartedAt: 2025-11-11 15:20:21 -0500 (Tue, 11 Nov 2025) EndedAt: 2025-11-11 15:25:18 -0500 (Tue, 11 Nov 2025) EllapsedTime: 297.2 seconds RetCode: 0 Status: OK