Package: Rbowtie2 Version: 2.17.0 Command: /Library/Frameworks/R.framework/Resources/bin/R CMD INSTALL Rbowtie2 StartedAt: 2025-11-13 15:10:49 -0500 (Thu, 13 Nov 2025) EndedAt: 2025-11-13 15:11:54 -0500 (Thu, 13 Nov 2025) EllapsedTime: 65.1 seconds RetCode: 0 Status: OK