Package: Rbowtie2 Version: 2.17.0 Command: /Library/Frameworks/R.framework/Resources/bin/R CMD build --keep-empty-dirs --no-resave-data Rbowtie2 StartedAt: 2025-11-13 17:26:22 -0500 (Thu, 13 Nov 2025) EndedAt: 2025-11-13 17:27:32 -0500 (Thu, 13 Nov 2025) EllapsedTime: 69.8 seconds RetCode: 0 Status: OK PackageFile: Rbowtie2_2.17.0.tar.gz PackageFileSize: 1.711 MiB