Package: Rbowtie2 Version: 2.17.0 Command: rm -rf Rbowtie2.buildbin-libdir && mkdir Rbowtie2.buildbin-libdir && /Users/biocbuild/BBS/utils/build-universal.sh Rbowtie2_2.17.0.tar.gz /Library/Frameworks/R.framework/Resources/bin/R Rbowtie2.buildbin-libdir StartedAt: 2025-11-12 21:07:28 -0500 (Wed, 12 Nov 2025) EndedAt: 2025-11-12 21:08:46 -0500 (Wed, 12 Nov 2025) EllapsedTime: 77.4 seconds RetCode: 0 Status: OK PackageFile: Rbowtie2_2.17.0.tgz PackageFileSize: 1.844 MiB