Package: Rbowtie2 Version: 2.17.0 Maintainer: Zheng Wei MaintainerEmail: wzweizheng at qq.com git_url: https://git.bioconductor.org/packages/Rbowtie2 git_branch: devel git_last_commit: 037bb32 git_last_commit_date: 2025-10-29 10:40:31 -0500 (Wed, 29 Oct 2025)