Package: Rbowtie Version: 1.51.0 Command: /Library/Frameworks/R.framework/Resources/bin/R CMD INSTALL Rbowtie StartedAt: 2025-11-23 15:03:17 -0500 (Sun, 23 Nov 2025) EndedAt: 2025-11-23 15:03:48 -0500 (Sun, 23 Nov 2025) EllapsedTime: 30.8 seconds RetCode: 0 Status: OK