Package: Rbowtie Version: 1.51.0 Command: /Library/Frameworks/R.framework/Resources/bin/R CMD build --keep-empty-dirs --no-resave-data Rbowtie StartedAt: 2025-11-21 17:22:37 -0500 (Fri, 21 Nov 2025) EndedAt: 2025-11-21 17:23:07 -0500 (Fri, 21 Nov 2025) EllapsedTime: 30.4 seconds RetCode: 0 Status: OK PackageFile: Rbowtie_1.51.0.tar.gz PackageFileSize: 4.917 MiB