Package: Rbowtie Version: 1.51.0 Command: rm -rf Rbowtie.buildbin-libdir && mkdir Rbowtie.buildbin-libdir && /Users/biocbuild/BBS/utils/build-universal.sh Rbowtie_1.51.0.tar.gz /Library/Frameworks/R.framework/Resources/bin/R Rbowtie.buildbin-libdir StartedAt: 2025-11-21 23:46:42 -0500 (Fri, 21 Nov 2025) EndedAt: 2025-11-21 23:47:14 -0500 (Fri, 21 Nov 2025) EllapsedTime: 31.8 seconds RetCode: 0 Status: OK PackageFile: Rbowtie_1.51.0.tgz PackageFileSize: 1.185 MiB