Package: Rbec Version: 1.19.0 Command: /Library/Frameworks/R.framework/Resources/bin/R CMD build --keep-empty-dirs --no-resave-data Rbec StartedAt: 2025-11-14 17:23:08 -0500 (Fri, 14 Nov 2025) EndedAt: 2025-11-14 17:23:11 -0500 (Fri, 14 Nov 2025) EllapsedTime: 3.1 seconds RetCode: 1 Status: ERROR PackageFile: None PackageFileSize: NA