Package: RbcBook1 Version: 1.79.0 Command: /Library/Frameworks/R.framework/Resources/bin/R CMD INSTALL RbcBook1 StartedAt: 2025-11-13 15:07:00 -0500 (Thu, 13 Nov 2025) EndedAt: 2025-11-13 15:07:02 -0500 (Thu, 13 Nov 2025) EllapsedTime: 2.0 seconds RetCode: 0 Status: OK