Package: RbcBook1 Version: 1.79.0 Command: /Library/Frameworks/R.framework/Resources/bin/R CMD build --keep-empty-dirs --no-resave-data RbcBook1 StartedAt: 2025-11-14 17:23:03 -0500 (Fri, 14 Nov 2025) EndedAt: 2025-11-14 17:23:09 -0500 (Fri, 14 Nov 2025) EllapsedTime: 6.1 seconds RetCode: 0 Status: OK PackageFile: RbcBook1_1.79.0.tar.gz PackageFileSize: 6.412 MiB